BEGIN:VCALENDAR
VERSION:2.0
PRODID:-//openpace innsbruck - ECPv6.15.20//NONSGML v1.0//EN
CALSCALE:GREGORIAN
METHOD:PUBLISH
X-WR-CALNAME:openpace innsbruck
X-ORIGINAL-URL:https://openspace-innsbruck.com
X-WR-CALDESC:Veranstaltungen für openpace innsbruck
REFRESH-INTERVAL;VALUE=DURATION:PT1H
X-Robots-Tag:noindex
X-PUBLISHED-TTL:PT1H
BEGIN:VTIMEZONE
TZID:Europe/Vienna
BEGIN:DAYLIGHT
TZOFFSETFROM:+0100
TZOFFSETTO:+0200
TZNAME:CEST
DTSTART:20250330T010000
END:DAYLIGHT
BEGIN:STANDARD
TZOFFSETFROM:+0200
TZOFFSETTO:+0100
TZNAME:CET
DTSTART:20251026T010000
END:STANDARD
BEGIN:DAYLIGHT
TZOFFSETFROM:+0100
TZOFFSETTO:+0200
TZNAME:CEST
DTSTART:20260329T010000
END:DAYLIGHT
BEGIN:STANDARD
TZOFFSETFROM:+0200
TZOFFSETTO:+0100
TZNAME:CET
DTSTART:20261025T010000
END:STANDARD
BEGIN:DAYLIGHT
TZOFFSETFROM:+0100
TZOFFSETTO:+0200
TZNAME:CEST
DTSTART:20270328T010000
END:DAYLIGHT
BEGIN:STANDARD
TZOFFSETFROM:+0200
TZOFFSETTO:+0100
TZNAME:CET
DTSTART:20271031T010000
END:STANDARD
END:VTIMEZONE
BEGIN:VEVENT
DTSTART;TZID=Europe/Vienna:20260423T180000
DTEND;TZID=Europe/Vienna:20260423T210000
DTSTAMP:20260423T145254
CREATED:20260330T131532Z
LAST-MODIFIED:20260420T083749Z
UID:2079-1776967200-1776978000@openspace-innsbruck.com
SUMMARY:Kreativzauber Workshop "Frühlingssymbole"
DESCRIPTION:Der Frühling mit seiner Kraft des Neubeginns erweckt wieder unsere Lebensgeister. Wir möchten unsere schöpferischen Potentiale zelebrieren und in individuellen Symbolen gestalterisch ausdrücken. Mittels Pappmaché Techniken werden an zwei Workshop-Tagen eigene skulpturale Kreationen erschaffen. Neben Papier kommen auch unkonventionelle Materialien zum Einsatz. Lass Dich überraschen\, was durch Deine Kreativität auf ästhetische Weise transformiert werden kann – Upcycling Deluxe 🙂. \nWir stellen Material zur Verfügung. Bringe aber auch gerne mit\, was Du an Papier\, Textilem oder Gegenständlichem verwandeln möchtest. Es werden keine Kenntnisse vorausgesetzt.\nWir freuen uns darauf\, Dich bei diesem schöpferischen Prozess dabei zu haben. \nDein Kreativzauber\nMarina & Andrea \nAnmeldung erforderlich: kreativzauber@posteo.com\, begrenzte Teilnahmezahl!\nTermine:\nSamstag\, 18. April\, 13:30 bis 16:30\nDonnerstag\, 23. April\, 18:00 bis 21:00\nOpenspace Innsbruck\, Mentlgasse 12b\nKursbeitrag: 59 Euro für beide Termine
URL:https://openspace-innsbruck.com/event/kreativzauber-workshop-fruehlingssymbole/
CATEGORIES:communityart
END:VEVENT
BEGIN:VEVENT
DTSTART;TZID=Europe/Vienna:20260424T200000
DTEND;TZID=Europe/Vienna:20260424T220000
DTSTAMP:20260423T145254
CREATED:20260420T084119Z
LAST-MODIFIED:20260420T084540Z
UID:2134-1777060800-1777068000@openspace-innsbruck.com
SUMMARY:Konzert: JEKAY
DESCRIPTION:Das Projekt JEKAY rund um die Sängerin Jessica (Jazz) Fölker präsentiert groovige Songs \, stilistisch von Bossa Nova über R&B bis hin zu souligen Balladen. Begleitet wird sie von Martin Peter (Gitarre) und Matthias Tilzer (Bass).  Als Gastmusiker rundet das ganze noch Simon Adam (Percussion) ab. Don‘t miss it!
URL:https://openspace-innsbruck.com/event/konzert-jekay/
CATEGORIES:Music
END:VEVENT
BEGIN:VEVENT
DTSTART;TZID=Europe/Vienna:20260425T100000
DTEND;TZID=Europe/Vienna:20260425T180000
DTSTAMP:20260423T145254
CREATED:20260420T084737Z
LAST-MODIFIED:20260420T084737Z
UID:2137-1777111200-1777140000@openspace-innsbruck.com
SUMMARY:COMMONING OPENSPACE #2
DESCRIPTION:Von 10 bis 13 Uhr findet das Vereinstreffen statt\, in dem die Kerngruppe über Fragen von Verwaltung\, Erhaltung und Programm des Raums berät. Interessierte sind willkommen – wir suchen immer neue Menschen\, die Zeit und Energie haben\, sich in der Kerngruppe zu engagieren. Um Anmeldung mit dem Betreff „Vereinstreffen“ an info@openspace-innsbruck.com wird gebeten. \nDann wird kurz um- und aufgebaut\, bevor von 13:30 bis 14:30 unsere offene Mittagspause stattfindet\, in der wir für Fragen und Ideen rund um den Openspace und dessen Nutzung zur Verfügung stehen. Keine Anmeldung notwendig! \nVon 14:30 bis 18:30 Uhr findet der Workshop “Spices and their travels” mit der sri-lankischen Künstlerin Mayomi Basnayaka statt. \nVon sri-lankischen Thunapaha (Currypulver) bis hin zum Weihnachtsgewürz lädt Mayomi dazu ein\, die Welt der Gewürze zu erkunden\, die in der srilankischen Küche verwurzelt sind. Wir werden uns mit den historischen Verbindungen des Gewürzhandels und den Monopolen zwischen Sri Lanka und Österreich auseinandersetzen\, mit heutigen Verbindungen geprägt durch Diasporagemeinschaften\, und mit der Art und Weise\, wie Gewürze über Kulturen hinweg reisen\, sich verändern und weiterentwickeln. \nAnschließend folgen sensorische Experimente\, in denen wir herausfinden\, was jedes Gewürz einzigartig macht. Gemeinsam lernen wir\, wie wir Gewürze mahlen und rösten\, entdecken traditionelle Mischungen und experimentieren mit eigenen. Der Nachmittag endet mit einem gemeinsamen Essen im Openspace\, angereichert mit unseren individuellen Gewürzmischungen.  \nUm Anmeldung mit dem Betreff „Gewürze“ und Nennung etwaiger Unverträglichkeiten/Allergien an info@openspace-innsbruck.com wird gebeten. Hinweis: Der Workshop ist auf Englisch (Flüsterübersetzungen möglich!) und ist kostenlos. Alle Speisen sind glutenfrei und vegan. \nMayomi Basnayaka ist eine in Amsterdam lebende Künstlerin aus Sri Lanka\, die ihre künstlerische Praxis durch verkörpertes Wissen und künstlerische Forschung gestaltet und Medien wie Performance\, Storytelling\, Essen und Installation einsetzt\, um Räume für Communities mit Migrationshintergrund zu erweitern.
URL:https://openspace-innsbruck.com/event/commoning-openspace-2/
CATEGORIES:communityart
END:VEVENT
END:VCALENDAR